BEGIN:VCALENDAR
VERSION:2.0
PRODID:-//Online TEFL Teacher - ECPv6.15.20//NONSGML v1.0//EN
CALSCALE:GREGORIAN
METHOD:PUBLISH
X-ORIGINAL-URL:https://onlineteflteacher.com
X-WR-CALDESC:Events for Online TEFL Teacher
REFRESH-INTERVAL;VALUE=DURATION:PT1H
X-Robots-Tag:noindex
X-PUBLISHED-TTL:PT1H
BEGIN:VTIMEZONE
TZID:Europe/Paris
BEGIN:DAYLIGHT
TZOFFSETFROM:+0100
TZOFFSETTO:+0200
TZNAME:CEST
DTSTART:20250330T010000
END:DAYLIGHT
BEGIN:STANDARD
TZOFFSETFROM:+0200
TZOFFSETTO:+0100
TZNAME:CET
DTSTART:20251026T010000
END:STANDARD
BEGIN:DAYLIGHT
TZOFFSETFROM:+0100
TZOFFSETTO:+0200
TZNAME:CEST
DTSTART:20260329T010000
END:DAYLIGHT
BEGIN:STANDARD
TZOFFSETFROM:+0200
TZOFFSETTO:+0100
TZNAME:CET
DTSTART:20261025T010000
END:STANDARD
BEGIN:DAYLIGHT
TZOFFSETFROM:+0100
TZOFFSETTO:+0200
TZNAME:CEST
DTSTART:20270328T010000
END:DAYLIGHT
BEGIN:STANDARD
TZOFFSETFROM:+0200
TZOFFSETTO:+0100
TZNAME:CET
DTSTART:20271031T010000
END:STANDARD
END:VTIMEZONE
BEGIN:VEVENT
DTSTART;TZID=Europe/Paris:20260525T080000
DTEND;TZID=Europe/Paris:20260625T170000
DTSTAMP:20260425T182425
CREATED:20250925T054058Z
LAST-MODIFIED:20260413T160403Z
UID:2852-1779696000-1782406800@onlineteflteacher.com
SUMMARY:TEFL Award Course May 25 - June 25 2026
DESCRIPTION:REGISTER NOW\n\nTEFL Course held on: \nMay 25 – June 25 2026\nweekdays (Mon to Fri) \nFIND OUT MORE and REGISTER
URL:https://onlineteflteacher.com/event/tefl-award-course-may-28-june-27-2026/
LOCATION:Online – We will send you the Zoom Meeting Invite
ATTACH;FMTTYPE=image/png:https://onlineteflteacher.com/wp-content/uploads/2026/01/coffee-and-TEFL-1.png
END:VEVENT
END:VCALENDAR