BEGIN:VCALENDAR
VERSION:2.0
PRODID:-//Online TEFL Teacher - ECPv6.15.20//NONSGML v1.0//EN
CALSCALE:GREGORIAN
METHOD:PUBLISH
X-ORIGINAL-URL:https://onlineteflteacher.com
X-WR-CALDESC:Events for Online TEFL Teacher
REFRESH-INTERVAL;VALUE=DURATION:PT1H
X-Robots-Tag:noindex
X-PUBLISHED-TTL:PT1H
BEGIN:VTIMEZONE
TZID:Europe/Paris
BEGIN:DAYLIGHT
TZOFFSETFROM:+0100
TZOFFSETTO:+0200
TZNAME:CEST
DTSTART:20200329T010000
END:DAYLIGHT
BEGIN:STANDARD
TZOFFSETFROM:+0200
TZOFFSETTO:+0100
TZNAME:CET
DTSTART:20201025T010000
END:STANDARD
BEGIN:DAYLIGHT
TZOFFSETFROM:+0100
TZOFFSETTO:+0200
TZNAME:CEST
DTSTART:20210328T010000
END:DAYLIGHT
BEGIN:STANDARD
TZOFFSETFROM:+0200
TZOFFSETTO:+0100
TZNAME:CET
DTSTART:20211031T010000
END:STANDARD
BEGIN:DAYLIGHT
TZOFFSETFROM:+0100
TZOFFSETTO:+0200
TZNAME:CEST
DTSTART:20220327T010000
END:DAYLIGHT
BEGIN:STANDARD
TZOFFSETFROM:+0200
TZOFFSETTO:+0100
TZNAME:CET
DTSTART:20221030T010000
END:STANDARD
BEGIN:DAYLIGHT
TZOFFSETFROM:+0100
TZOFFSETTO:+0200
TZNAME:CEST
DTSTART:20230326T010000
END:DAYLIGHT
BEGIN:STANDARD
TZOFFSETFROM:+0200
TZOFFSETTO:+0100
TZNAME:CET
DTSTART:20231029T010000
END:STANDARD
BEGIN:DAYLIGHT
TZOFFSETFROM:+0100
TZOFFSETTO:+0200
TZNAME:CEST
DTSTART:20240331T010000
END:DAYLIGHT
BEGIN:STANDARD
TZOFFSETFROM:+0200
TZOFFSETTO:+0100
TZNAME:CET
DTSTART:20241027T010000
END:STANDARD
BEGIN:DAYLIGHT
TZOFFSETFROM:+0100
TZOFFSETTO:+0200
TZNAME:CEST
DTSTART:20250330T010000
END:DAYLIGHT
BEGIN:STANDARD
TZOFFSETFROM:+0200
TZOFFSETTO:+0100
TZNAME:CET
DTSTART:20251026T010000
END:STANDARD
END:VTIMEZONE
BEGIN:VEVENT
DTSTART;TZID=Europe/Paris:20240527T171500
DTEND;TZID=Europe/Paris:20240531T203000
DTSTAMP:20260425T152337
CREATED:20220831T164141Z
LAST-MODIFIED:20240319T084340Z
UID:1794-1716830100-1717187400@onlineteflteacher.com
SUMMARY:TEFL Award Course May -June
DESCRIPTION:REGISTER NOW\nTEFL Award Course held on: \n27th May– 27sh June 2024\n \n3 days a week  on weekdays\n17.15-20.30 CET \nCourse fee €325  –   Early Bird Offer €300* \n*Offer applies if you book by 24th April 2024 \n 
URL:https://onlineteflteacher.com/event/tefl-course-november-december-2022/
LOCATION:Online – We will send you the Zoom Meeting Invite
END:VEVENT
BEGIN:VEVENT
DTSTART;VALUE=DATE:20240423
DTEND;VALUE=DATE:20240721
DTSTAMP:20260425T152337
CREATED:20240319T102808Z
LAST-MODIFIED:20240319T102808Z
UID:2415-1713830400-1721519999@onlineteflteacher.com
SUMMARY:90 day Self-Study TELT Interactive Preparation Course – €100
DESCRIPTION:REGISTER NOW\nSelf-Sudy TELT Exam Preparation Course – 1st TELT Session 2023 \n(90-Day Access)\n(a 40-hour self-study online programme that trainees can go through at their own pace) \nTRY OUT A UNIT SAMPLE\nYOU WILL BE ABLE TO ACCESS THE COURSE:\nfrom 23rd April to 20th July 2024 (€100)\n\nFIND OUT MORE and REGISTER\nCourse fee €100 \nNext TELT EXAM – 20th July 2024
URL:https://onlineteflteacher.com/event/90-day-self-study-telt-interactive-preparation-course-e100/
LOCATION:Online – we will send you log-in details to our LMS platform
END:VEVENT
BEGIN:VEVENT
DTSTART;TZID=Europe/Paris:20240304T171500
DTEND;TZID=Europe/Paris:20240318T203000
DTSTAMP:20260425T152337
CREATED:20221213T144553Z
LAST-MODIFIED:20240319T083522Z
UID:2176-1709572500-1710793800@onlineteflteacher.com
SUMMARY:TEFL Award Course March-April
DESCRIPTION:REGISTER NOW\nTEFL Course held on: \n4th March– 4th April 2024\n \n3-4 days a week  on weekdays\n17.15-20.30 CET \nCourse fee €325  –   Early Bird Offer €300* \n*Offer applies if you book by 4th February 2023.
URL:https://onlineteflteacher.com/event/march-april-2023-tefl-award-course/
LOCATION:Online – We will send you the Zoom Meeting Invite
END:VEVENT
BEGIN:VEVENT
DTSTART;TZID=Europe/Paris:20220924T093000
DTEND;TZID=Europe/Paris:20220924T130000
DTSTAMP:20260425T152337
CREATED:20220812T044058Z
LAST-MODIFIED:20220812T044108Z
UID:1745-1664011800-1664024400@onlineteflteacher.com
SUMMARY:SEPTEMBER SEPTT WORKSHOP
DESCRIPTION:BOOK NOW\n\nPreparation Course on:\nSaturday\, 24th September 2022\n09.30 – 13.00 CET \n  \nin preparation for exam held on: \nTuesday\,\n27th September 2022\n  \nBOOK FREE EXAM HERE .
URL:https://onlineteflteacher.com/event/september-septt-workshop/
LOCATION:Online – We will send you the Zoom Meeting Invite
END:VEVENT
BEGIN:VEVENT
DTSTART;TZID=Europe/Paris:20220724T160000
DTEND;TZID=Europe/Paris:20220724T193000
DTSTAMP:20260425T152337
CREATED:20220610T090507Z
LAST-MODIFIED:20220610T090603Z
UID:1713-1658678400-1658691000@onlineteflteacher.com
SUMMARY:SEPTT Preparation Workshop July 22
DESCRIPTION:BOOK NOW\n\nPreparation Course on: SUNDAY 24th July 2022 16.00 – 19.30 CET\n  \nin preparation for exam held on: \nTuesday\, 26th July 2022\n  \nBOOK FREE EXAM HERE .
URL:https://onlineteflteacher.com/event/septt-preparation-workshop-july-22/
LOCATION:Online – We will send you the Zoom Meeting Invite
END:VEVENT
BEGIN:VEVENT
DTSTART;TZID=Europe/Paris:20220625T093000
DTEND;TZID=Europe/Paris:20220625T130000
DTSTAMP:20260425T152337
CREATED:20211214T174621Z
LAST-MODIFIED:20220207T183828Z
UID:1371-1656149400-1656162000@onlineteflteacher.com
SUMMARY:SEPTT June 2022 Preparation Workshop
DESCRIPTION:BOOK NOW\n\nPreparation Course on: 25th June 2022 09.30 – 13.00 CET \n  \nin preparation for exam held on: \nTuesday\, 28th June 2022\n  \nBOOK FREE EXAM HERE .
URL:https://onlineteflteacher.com/event/septt-june-preparation-workshop/
END:VEVENT
BEGIN:VEVENT
DTSTART;TZID=Europe/Paris:20220521T093000
DTEND;TZID=Europe/Paris:20220521T130000
DTSTAMP:20260425T152337
CREATED:20211214T174448Z
LAST-MODIFIED:20220207T183954Z
UID:1369-1653125400-1653138000@onlineteflteacher.com
SUMMARY:SEPTT May 2022 Preparation Workshop
DESCRIPTION:BOOK NOW\n\nPreparation Course on: 21st May 2022 09.30 – 13.00 CET \n  \nin preparation for exam held on: \n Tuesday\, 31st May 2022\n  \nBOOK FREE EXAM HERE .
URL:https://onlineteflteacher.com/event/septt-preparation-workshop/
END:VEVENT
BEGIN:VEVENT
DTSTART;TZID=Europe/Paris:20220322T171500
DTEND;TZID=Europe/Paris:20220414T203000
DTSTAMP:20260425T152337
CREATED:20211112T193028Z
LAST-MODIFIED:20220302T135957Z
UID:1346-1647969300-1649968200@onlineteflteacher.com
SUMMARY:March-April 2022 Online TEFL Award Course
DESCRIPTION:REGISTER NOW\n\nTEFL Course held on: \n22nd March – 14th April 2022\nweekdays (Mon to Fri)\n17.15-20.30 CET \nCourse fee €295  –   Early Bird Offer €275* \n*Offer applies if you book by 7th March 2022. \nBenefit from 75% funding with Training Pays Scheme:\nhttps://jobsplus.gov.mt/schemes-jobseekers/training-pays-scheme \nFIND OUT MORE and REGISTER
URL:https://onlineteflteacher.com/event/march-april-tefl-cert-online-course/
LOCATION:Online – We will send you the Zoom Meeting Invite
END:VEVENT
BEGIN:VEVENT
DTSTART;TZID=Europe/Paris:20220221T171500
DTEND;TZID=Europe/Paris:20220303T203000
DTSTAMP:20260425T152337
CREATED:20211112T183200Z
LAST-MODIFIED:20220207T180038Z
UID:1342-1645463700-1646339400@onlineteflteacher.com
SUMMARY:February - March 2022 Online TELT Preparation Course
DESCRIPTION:REGISTER NOW\n\n\nOnline TELT Exam Preparation Course\n\n21st February – 3rd March 2022\n3/5 days a week from 17.15 to 20.30hrs CET. \n\nFIND OUT MORE and REGISTER\nCourse fee €195  –   Early Bird Offer €180* \n*Offer applies if you book by 7th February 2022. \n  \nIn preparation for the telt exam happening on Saturday\, 12th March 2022\n\n  \nBenefit from 75% funding with Training Pays Scheme:\nhttps://jobsplus.gov.mt/schemes-jobseekers/training-pays-scheme
URL:https://onlineteflteacher.com/event/1342/
LOCATION:Online – We will send you the Zoom Meeting Invite
END:VEVENT
BEGIN:VEVENT
DTSTART;TZID=Europe/Paris:20220122T093000
DTEND;TZID=Europe/Paris:20220122T130000
DTSTAMP:20260425T152337
CREATED:20211214T183312Z
LAST-MODIFIED:20211214T183416Z
UID:1382-1642843800-1642856400@onlineteflteacher.com
SUMMARY:SEPTT Jan 2022 Preparation Woorkshop
DESCRIPTION:BOOK NOW\n\nPreparation Course on: Saturday\, 22nd January 2022 09.30 – 13.00 CET\n  \nin preparation for exam held on: \nTuesday\, 25th January 2022\n  \nBOOK FREE EXAM HERE .
URL:https://onlineteflteacher.com/event/septt-jan-2022-preparation-woorkshop/
END:VEVENT
BEGIN:VEVENT
DTSTART;TZID=Europe/Paris:20211214T093000
DTEND;TZID=Europe/Paris:20211214T093000
DTSTAMP:20260425T152337
CREATED:20210617T173635Z
LAST-MODIFIED:20211214T174252Z
UID:1263-1639474200-1639474200@onlineteflteacher.com
SUMMARY:SEPTT Exam Preparation Workshop with Alan Marsh
DESCRIPTION:BOOK NOW\n\nPreparation Course on: Saturday\, 26th March 2022 09.30 – 13.00 CET \n  \n(Course registrations close 20th November) \n  \nin preparation for exam held on: \nTuesday\, 29th March 2022)\n  \nBOOK FREE EXAM HERE .
URL:https://onlineteflteacher.com/event/septt-exam-preparation-workshop-with-alan-marsh/
END:VEVENT
BEGIN:VEVENT
DTSTART;TZID=Europe/Paris:20211004T171500
DTEND;TZID=Europe/Paris:20211015T203000
DTSTAMP:20260425T152337
CREATED:20210617T171136Z
LAST-MODIFIED:20210617T172827Z
UID:1249-1633367700-1634329800@onlineteflteacher.com
SUMMARY:TELT Exam Preparation Course with Alan Marsh
DESCRIPTION:REGISTER NOW\n  \nOur Last TELT Exam Preparation Course for 2021: \n\n4th October – 15th October 2021\n4/5 days a week from 17.15 to 20.30hrs CET. \n\nFIND OUT MORE and REGISTER\n  \nCourse fee €195  –   Early Bird Offer €180* \n*Offer applies if you book by 20th September 2021. \nLAST TELT EXAM for 2021 – 23rd OCTOBER\n\nBenefit from 75% funding with Training Pays Scheme:\nhttps://jobsplus.gov.mt/schemes-jobseekers/training-pays-scheme
URL:https://onlineteflteacher.com/event/telt-exam-preparation-course-with-alan-marsh/
END:VEVENT
BEGIN:VEVENT
DTSTART;TZID=Europe/Paris:20210830T171500
DTEND;TZID=Europe/Paris:20210923T203000
DTSTAMP:20260425T152337
CREATED:20210616T153137Z
LAST-MODIFIED:20220606T114659Z
UID:1223-1630343700-1632429000@onlineteflteacher.com
SUMMARY:Online TEFL Certification Course by Alan Marsh
DESCRIPTION:REGISTER NOW \n  \nTEFL Course held on: 30th Aug – 23rd Sept 2021 \nweekdays (3/4 days a week)   17.15 – 20.30 CET. \n  \nBenefit from 75% Funding with the JobsPlus Training Pays Scheme. \n  \nFIND OUT MORE and REGISTER\n \n 
URL:https://onlineteflteacher.com/event/online-tefl-certification-course-by-alan-marsh-2/
END:VEVENT
BEGIN:VEVENT
DTSTART;TZID=Europe/Paris:20210828T093000
DTEND;TZID=Europe/Paris:20210828T123000
DTSTAMP:20260425T152337
CREATED:20210502T135652Z
LAST-MODIFIED:20210617T163033Z
UID:1123-1630143000-1630153800@onlineteflteacher.com
SUMMARY:SEPTT Exam Preparation Workshop
DESCRIPTION:BOOK NOW \nPreparation Course held on: Saturday 28th August 2021 \nfrom 09:30hrs to 13:00hrs CET. (Course registrations close 20th August) \n  \nNext SEPTT Exam being held on: Tuesday\, 31st August 2021. \nBOOK FREE EXAM HERE (Closing date 25th August).
URL:https://onlineteflteacher.com/event/septt-exam-preparation-workshop/
LOCATION:Online – We will send you the Zoom Meeting Invite
END:VEVENT
BEGIN:VEVENT
DTSTART;VALUE=DATE:20210712
DTEND;VALUE=DATE:20210730
DTSTAMP:20260425T152337
CREATED:20210502T133524Z
LAST-MODIFIED:20210515T211859Z
UID:1114-1626048000-1627603199@onlineteflteacher.com
SUMMARY:Online TEFL Certification Course by Alan Marsh
DESCRIPTION:REGISTER NOW \nTEFL Course held on:  \n12th July – 29th July 2021\nweekdays (Mon to Fri)\n17.15-20.30 CET\nSaturday 17th and Saturday 24th July\n10.00-13.15 CET \nFIND OUT MORE and REGISTER
URL:https://onlineteflteacher.com/event/online-tefl-certification-course-by-alan-marsh/
LOCATION:Online – We will send you the Zoom Meeting Invite
END:VEVENT
BEGIN:VEVENT
DTSTART;VALUE=DATE:20210617
DTEND;VALUE=DATE:20210701
DTSTAMP:20260425T152337
CREATED:20210502T134932Z
LAST-MODIFIED:20210617T151420Z
UID:1119-1623888000-1625097599@onlineteflteacher.com
SUMMARY:Online TELT Preparation Course by Alan Marsh
DESCRIPTION:REGISTER NOW \nTELT Exam Preparation Course held on:  \n4th October – 15th October 2021\n4/5 days a week from 17.15 to 20.30hrs CET \nDOWNLOAD TIMETABLE\nFIND OUT MORE and REGISTER \nCourse fee €195    –     Early Bird Offer €180*  \n*Offer applies if you book by 20th September 2021. \n  \n  \nBenefit from 75% funding with Training Pays Scheme: \nhttps://jobsplus.gov.mt/schemes-jobseekers/training-pays-scheme \n  \n  \nNext TELT Exam Session: 23rd October July 2021. \nApplicants can apply online via  link: https://myexams.gov.mt/applications/
URL:https://onlineteflteacher.com/event/online-telt-preparation-course-by-alan-marsh/
LOCATION:Online – We will send you the Zoom Meeting Invite
END:VEVENT
BEGIN:VEVENT
DTSTART;VALUE=DATE:20210531
DTEND;VALUE=DATE:20210619
DTSTAMP:20260425T152337
CREATED:20210503T055503Z
LAST-MODIFIED:20210604T214137Z
UID:1136-1622419200-1624060799@onlineteflteacher.com
SUMMARY:Application dates for TELT Exam Session on 17th July 2021 : 31st May – 18th June 2021
DESCRIPTION:Application dates for TELT Exam Session on 17th July 2021: \n31st May – 18th June 2021\n  \nApply online via  link: https://myexams.gov.mt/applications/
URL:https://onlineteflteacher.com/event/application-dates-for-telt-exam-session-on17th-july-2021-31st-may-18th-june-2021/
LOCATION:Examinations Department
END:VEVENT
END:VCALENDAR