BEGIN:VCALENDAR
VERSION:2.0
PRODID:-//Online TEFL Teacher - ECPv6.15.20//NONSGML v1.0//EN
CALSCALE:GREGORIAN
METHOD:PUBLISH
X-WR-CALNAME:Online TEFL Teacher
X-ORIGINAL-URL:https://onlineteflteacher.com
X-WR-CALDESC:Events for Online TEFL Teacher
REFRESH-INTERVAL;VALUE=DURATION:PT1H
X-Robots-Tag:noindex
X-PUBLISHED-TTL:PT1H
BEGIN:VTIMEZONE
TZID:Europe/Paris
BEGIN:DAYLIGHT
TZOFFSETFROM:+0100
TZOFFSETTO:+0200
TZNAME:CEST
DTSTART:20250330T010000
END:DAYLIGHT
BEGIN:STANDARD
TZOFFSETFROM:+0200
TZOFFSETTO:+0100
TZNAME:CET
DTSTART:20251026T010000
END:STANDARD
BEGIN:DAYLIGHT
TZOFFSETFROM:+0100
TZOFFSETTO:+0200
TZNAME:CEST
DTSTART:20260329T010000
END:DAYLIGHT
BEGIN:STANDARD
TZOFFSETFROM:+0200
TZOFFSETTO:+0100
TZNAME:CET
DTSTART:20261025T010000
END:STANDARD
BEGIN:DAYLIGHT
TZOFFSETFROM:+0100
TZOFFSETTO:+0200
TZNAME:CEST
DTSTART:20270328T010000
END:DAYLIGHT
BEGIN:STANDARD
TZOFFSETFROM:+0200
TZOFFSETTO:+0100
TZNAME:CET
DTSTART:20271031T010000
END:STANDARD
END:VTIMEZONE
BEGIN:VEVENT
DTSTART;VALUE=DATE:20260414
DTEND;VALUE=DATE:20260514
DTSTAMP:20260425T133622
CREATED:20250413T144618Z
LAST-MODIFIED:20260413T160137Z
UID:2719-1776124800-1778716799@onlineteflteacher.com
SUMMARY:30 day Self-Study TELT Exam Preparation Course - 14th April to 13th May 2026
DESCRIPTION:REGISTER NOW\nSelf-Study TELT Exam Preparation Course \n– in preparation for the 13th May 2026 session\n(30-Day Access)\n(a 40-hour self-study online programme that trainees can go through at their own pace) \nTRY OUT A UNIT SAMPLE\nYOU WILL BE ABLE TO ACCESS THE COURSE:\nfrom 14th April to 13th May 2026\n(Course Fee – €50)\n\nFIND OUT MORE and REGISTER\n (Applications CLOSED)
URL:https://onlineteflteacher.com/event/self-sudy-telt-exam-preparation-course-30-day-access-in-preparation-for-the-saturday-19th-july-2025-session/
LOCATION:Online – We will send you log-in details to our LMS platform
ATTACH;FMTTYPE=image/jpeg:https://onlineteflteacher.com/wp-content/uploads/2022/12/self-study.jpg
END:VEVENT
END:VCALENDAR